BEGIN:VCALENDAR
VERSION:2.0
PRODID:-//Wythall Community Club - ECPv6.15.20//NONSGML v1.0//EN
CALSCALE:GREGORIAN
METHOD:PUBLISH
X-WR-CALNAME:Wythall Community Club
X-ORIGINAL-URL:https://wythallcommunityclub.org.uk
X-WR-CALDESC:Events for Wythall Community Club
REFRESH-INTERVAL;VALUE=DURATION:PT1H
X-Robots-Tag:noindex
X-PUBLISHED-TTL:PT1H
BEGIN:VTIMEZONE
TZID:Europe/London
BEGIN:DAYLIGHT
TZOFFSETFROM:+0000
TZOFFSETTO:+0100
TZNAME:BST
DTSTART:20250330T010000
END:DAYLIGHT
BEGIN:STANDARD
TZOFFSETFROM:+0100
TZOFFSETTO:+0000
TZNAME:GMT
DTSTART:20251026T010000
END:STANDARD
BEGIN:DAYLIGHT
TZOFFSETFROM:+0000
TZOFFSETTO:+0100
TZNAME:BST
DTSTART:20260329T010000
END:DAYLIGHT
BEGIN:STANDARD
TZOFFSETFROM:+0100
TZOFFSETTO:+0000
TZNAME:GMT
DTSTART:20261025T010000
END:STANDARD
BEGIN:DAYLIGHT
TZOFFSETFROM:+0000
TZOFFSETTO:+0100
TZNAME:BST
DTSTART:20270328T010000
END:DAYLIGHT
BEGIN:STANDARD
TZOFFSETFROM:+0100
TZOFFSETTO:+0000
TZNAME:GMT
DTSTART:20271031T010000
END:STANDARD
END:VTIMEZONE
BEGIN:VEVENT
DTSTART;TZID=Europe/London:20260429T200000
DTEND;TZID=Europe/London:20260429T223000
DTSTAMP:20260423T213230
CREATED:20251123T105955Z
LAST-MODIFIED:20260325T212541Z
UID:10005042-1777492800-1777501800@wythallcommunityclub.org.uk
SUMMARY:SpeedQuizzing
DESCRIPTION:No paper. No pens. No cheating!\nTrivia\, Music\, Film\, TV\, Sports\, etc.  \nPrizes to be won! \nPlay using one smart phone or tablet. One device required per team. The host reads the questions and players answer on their devices. \nFeaturing Speed Bingo. \n£6 per team\, max 6 per team. \nMinimum age 12 years old when accompanied by an adult. \nMembers and non-members welcome. \nSpeedQuizzing ApplicationPlease enable JavaScript in your browser to complete this form.Please enable JavaScript in your browser to complete this form.Team Captain *FirstLastTeam Captain Email *Team Captain Phone *Team Name *Number of Club Members---Select---123456Number of Guests---Select---123456SpeedQuizzing Fee *Price: £6.00£6 per team. Max teams of 6.SpeedQuizzing Payment *Submit
URL:https://wythallcommunityclub.org.uk/event/speedquizzing-19/
LOCATION:Lounge Bar\, Wythall House\, Silver St\, Wythall\, Birmingham\, West Midlands\, B47 6LZ
CATEGORIES:Lounge,SpeedQuizzing
ATTACH;FMTTYPE=image/png:https://wythallcommunityclub.org.uk/wp-content/uploads/2025/11/sq-poster-web-NO-DATE-e1770825544859.png
ORGANIZER;CN="Wythall Community Club":MAILTO:enquiries@wythallcommunityclub.org.uk
END:VEVENT
BEGIN:VEVENT
DTSTART;TZID=Europe/London:20260520T200000
DTEND;TZID=Europe/London:20260520T223000
DTSTAMP:20260423T213230
CREATED:20251123T110031Z
LAST-MODIFIED:20251123T110031Z
UID:10005043-1779307200-1779316200@wythallcommunityclub.org.uk
SUMMARY:SpeedQuizzing
DESCRIPTION:No paper. No pens. No cheating!\nTrivia\, Music\, Film\, TV\, Sports\, etc.  \nPrizes to be won! \nPlay using one smart phone or tablet. One device required per team. The host reads the questions and players answer on their devices. \nFeaturing Speed Bingo. \n£6 per team\, max 6 per team. \nMinimum age 12 years old when accompanied by an adult. \nMembers and non-members welcome. \nSpeedQuizzing ApplicationPlease enable JavaScript in your browser to complete this form.Please enable JavaScript in your browser to complete this form.Team Captain *FirstLastTeam Captain Email *Team Captain Phone *Team Name *Number of Club Members---Select---123456Number of Guests---Select---123456SpeedQuizzing Fee *Price: £6.00£6 per team. Max teams of 6.SpeedQuizzing Payment *Submit
URL:https://wythallcommunityclub.org.uk/event/speedquizzing-20/
LOCATION:Lounge Bar\, Wythall House\, Silver St\, Wythall\, Birmingham\, West Midlands\, B47 6LZ
CATEGORIES:Lounge,SpeedQuizzing
ATTACH;FMTTYPE=image/png:https://wythallcommunityclub.org.uk/wp-content/uploads/2025/11/sq-poster-web-NO-DATE-e1770825544859.png
ORGANIZER;CN="Wythall Community Club":MAILTO:enquiries@wythallcommunityclub.org.uk
END:VEVENT
BEGIN:VEVENT
DTSTART;TZID=Europe/London:20260604T210000
DTEND;TZID=Europe/London:20260604T230000
DTSTAMP:20260423T213230
CREATED:20260326T122950Z
LAST-MODIFIED:20260326T123506Z
UID:10005255-1780606800-1780614000@wythallcommunityclub.org.uk
SUMMARY:Summer Skittles
DESCRIPTION:Open to all Club Members and their guests. You don’t need to be in a team to play Summer Skittles as it’s an individuals event. \nPrize each week for the highest score. \nEntry fee £1 per person per week. \nNot a member? Come and meet the organiser to be signed in. \nPool and Darts also available.
URL:https://wythallcommunityclub.org.uk/event/summer-skittles-34/2026-06-04/
LOCATION:Wythall House\, Wythall Community Club\, 52 Silver Street\, Wythall\, Birmingham\, West Midlands\, B47 6LZ\, United Kingdom
CATEGORIES:Britannia Room,Skittles
ATTACH;FMTTYPE=image/jpeg:https://wythallcommunityclub.org.uk/wp-content/uploads/2026/03/Summer-Skittles-2026-e1774528496889.jpg
ORGANIZER;CN="Wythall Community Club":MAILTO:enquiries@wythallcommunityclub.org.uk
END:VEVENT
BEGIN:VEVENT
DTSTART;TZID=Europe/London:20260611T210000
DTEND;TZID=Europe/London:20260611T230000
DTSTAMP:20260423T213230
CREATED:20260326T122950Z
LAST-MODIFIED:20260326T123506Z
UID:10005256-1781211600-1781218800@wythallcommunityclub.org.uk
SUMMARY:Summer Skittles
DESCRIPTION:Open to all Club Members and their guests. You don’t need to be in a team to play Summer Skittles as it’s an individuals event. \nPrize each week for the highest score. \nEntry fee £1 per person per week. \nNot a member? Come and meet the organiser to be signed in. \nPool and Darts also available.
URL:https://wythallcommunityclub.org.uk/event/summer-skittles-34/2026-06-11/
LOCATION:Wythall House\, Wythall Community Club\, 52 Silver Street\, Wythall\, Birmingham\, West Midlands\, B47 6LZ\, United Kingdom
CATEGORIES:Britannia Room,Skittles
ATTACH;FMTTYPE=image/jpeg:https://wythallcommunityclub.org.uk/wp-content/uploads/2026/03/Summer-Skittles-2026-e1774528496889.jpg
ORGANIZER;CN="Wythall Community Club":MAILTO:enquiries@wythallcommunityclub.org.uk
END:VEVENT
BEGIN:VEVENT
DTSTART;TZID=Europe/London:20260617T200000
DTEND;TZID=Europe/London:20260617T223000
DTSTAMP:20260423T213230
CREATED:20251123T110057Z
LAST-MODIFIED:20251123T110057Z
UID:10005044-1781726400-1781735400@wythallcommunityclub.org.uk
SUMMARY:SpeedQuizzing
DESCRIPTION:No paper. No pens. No cheating!\nTrivia\, Music\, Film\, TV\, Sports\, etc.  \nPrizes to be won! \nPlay using one smart phone or tablet. One device required per team. The host reads the questions and players answer on their devices. \nFeaturing Speed Bingo. \n£6 per team\, max 6 per team. \nMinimum age 12 years old when accompanied by an adult. \nMembers and non-members welcome. \nSpeedQuizzing ApplicationPlease enable JavaScript in your browser to complete this form.Please enable JavaScript in your browser to complete this form.Team Captain *FirstLastTeam Captain Email *Team Captain Phone *Team Name *Number of Club Members---Select---123456Number of Guests---Select---123456SpeedQuizzing Fee *Price: £6.00£6 per team. Max teams of 6.SpeedQuizzing Payment *Submit
URL:https://wythallcommunityclub.org.uk/event/speedquizzing-21/
LOCATION:Lounge Bar\, Wythall House\, Silver St\, Wythall\, Birmingham\, West Midlands\, B47 6LZ
CATEGORIES:Lounge,SpeedQuizzing
ATTACH;FMTTYPE=image/png:https://wythallcommunityclub.org.uk/wp-content/uploads/2025/11/sq-poster-web-NO-DATE-e1770825544859.png
ORGANIZER;CN="Wythall Community Club":MAILTO:enquiries@wythallcommunityclub.org.uk
END:VEVENT
BEGIN:VEVENT
DTSTART;TZID=Europe/London:20260618T210000
DTEND;TZID=Europe/London:20260618T230000
DTSTAMP:20260423T213230
CREATED:20260326T122950Z
LAST-MODIFIED:20260326T123506Z
UID:10005257-1781816400-1781823600@wythallcommunityclub.org.uk
SUMMARY:Summer Skittles
DESCRIPTION:Open to all Club Members and their guests. You don’t need to be in a team to play Summer Skittles as it’s an individuals event. \nPrize each week for the highest score. \nEntry fee £1 per person per week. \nNot a member? Come and meet the organiser to be signed in. \nPool and Darts also available.
URL:https://wythallcommunityclub.org.uk/event/summer-skittles-34/2026-06-18/
LOCATION:Wythall House\, Wythall Community Club\, 52 Silver Street\, Wythall\, Birmingham\, West Midlands\, B47 6LZ\, United Kingdom
CATEGORIES:Britannia Room,Skittles
ATTACH;FMTTYPE=image/jpeg:https://wythallcommunityclub.org.uk/wp-content/uploads/2026/03/Summer-Skittles-2026-e1774528496889.jpg
ORGANIZER;CN="Wythall Community Club":MAILTO:enquiries@wythallcommunityclub.org.uk
END:VEVENT
BEGIN:VEVENT
DTSTART;TZID=Europe/London:20260625T210000
DTEND;TZID=Europe/London:20260625T230000
DTSTAMP:20260423T213230
CREATED:20260326T122950Z
LAST-MODIFIED:20260326T123506Z
UID:10005258-1782421200-1782428400@wythallcommunityclub.org.uk
SUMMARY:Summer Skittles
DESCRIPTION:Open to all Club Members and their guests. You don’t need to be in a team to play Summer Skittles as it’s an individuals event. \nPrize each week for the highest score. \nEntry fee £1 per person per week. \nNot a member? Come and meet the organiser to be signed in. \nPool and Darts also available.
URL:https://wythallcommunityclub.org.uk/event/summer-skittles-34/2026-06-25/
LOCATION:Wythall House\, Wythall Community Club\, 52 Silver Street\, Wythall\, Birmingham\, West Midlands\, B47 6LZ\, United Kingdom
CATEGORIES:Britannia Room,Skittles
ATTACH;FMTTYPE=image/jpeg:https://wythallcommunityclub.org.uk/wp-content/uploads/2026/03/Summer-Skittles-2026-e1774528496889.jpg
ORGANIZER;CN="Wythall Community Club":MAILTO:enquiries@wythallcommunityclub.org.uk
END:VEVENT
BEGIN:VEVENT
DTSTART;TZID=Europe/London:20260626T180000
DTEND;TZID=Europe/London:20260626T230000
DTSTAMP:20260423T213230
CREATED:20260311T173611Z
LAST-MODIFIED:20260311T173649Z
UID:10005253-1782496800-1782514800@wythallcommunityclub.org.uk
SUMMARY:FREE Music Friday featuring The Clover Ducks
DESCRIPTION:
URL:https://wythallcommunityclub.org.uk/event/free-music-friday-featuring-the-clover-ducks/
LOCATION:Britannia Room\, Wythall Community Club\, 52 Silver Street\, Wythall\, Birmingham\, West Midlands\, B47 6LZ\, United Kingdom
CATEGORIES:Britannia Room,Entertainment
ATTACH;FMTTYPE=image/jpeg:https://wythallcommunityclub.org.uk/wp-content/uploads/2026/03/The-Clover-Ducks-e1773250599134.jpeg
ORGANIZER;CN="Wythall Community Club":MAILTO:enquiries@wythallcommunityclub.org.uk
END:VEVENT
BEGIN:VEVENT
DTSTART;TZID=Europe/London:20260702T210000
DTEND;TZID=Europe/London:20260702T230000
DTSTAMP:20260423T213230
CREATED:20260326T122950Z
LAST-MODIFIED:20260326T123506Z
UID:10005259-1783026000-1783033200@wythallcommunityclub.org.uk
SUMMARY:Summer Skittles
DESCRIPTION:Open to all Club Members and their guests. You don’t need to be in a team to play Summer Skittles as it’s an individuals event. \nPrize each week for the highest score. \nEntry fee £1 per person per week. \nNot a member? Come and meet the organiser to be signed in. \nPool and Darts also available.
URL:https://wythallcommunityclub.org.uk/event/summer-skittles-34/2026-07-02/
LOCATION:Wythall House\, Wythall Community Club\, 52 Silver Street\, Wythall\, Birmingham\, West Midlands\, B47 6LZ\, United Kingdom
CATEGORIES:Britannia Room,Skittles
ATTACH;FMTTYPE=image/jpeg:https://wythallcommunityclub.org.uk/wp-content/uploads/2026/03/Summer-Skittles-2026-e1774528496889.jpg
ORGANIZER;CN="Wythall Community Club":MAILTO:enquiries@wythallcommunityclub.org.uk
END:VEVENT
BEGIN:VEVENT
DTSTART;TZID=Europe/London:20260709T210000
DTEND;TZID=Europe/London:20260709T230000
DTSTAMP:20260423T213230
CREATED:20260326T122950Z
LAST-MODIFIED:20260326T123506Z
UID:10005260-1783630800-1783638000@wythallcommunityclub.org.uk
SUMMARY:Summer Skittles
DESCRIPTION:Open to all Club Members and their guests. You don’t need to be in a team to play Summer Skittles as it’s an individuals event. \nPrize each week for the highest score. \nEntry fee £1 per person per week. \nNot a member? Come and meet the organiser to be signed in. \nPool and Darts also available.
URL:https://wythallcommunityclub.org.uk/event/summer-skittles-34/2026-07-09/
LOCATION:Wythall House\, Wythall Community Club\, 52 Silver Street\, Wythall\, Birmingham\, West Midlands\, B47 6LZ\, United Kingdom
CATEGORIES:Britannia Room,Skittles
ATTACH;FMTTYPE=image/jpeg:https://wythallcommunityclub.org.uk/wp-content/uploads/2026/03/Summer-Skittles-2026-e1774528496889.jpg
ORGANIZER;CN="Wythall Community Club":MAILTO:enquiries@wythallcommunityclub.org.uk
END:VEVENT
BEGIN:VEVENT
DTSTART;TZID=Europe/London:20260716T210000
DTEND;TZID=Europe/London:20260716T230000
DTSTAMP:20260423T213230
CREATED:20260326T122950Z
LAST-MODIFIED:20260326T123506Z
UID:10005261-1784235600-1784242800@wythallcommunityclub.org.uk
SUMMARY:Summer Skittles
DESCRIPTION:Open to all Club Members and their guests. You don’t need to be in a team to play Summer Skittles as it’s an individuals event. \nPrize each week for the highest score. \nEntry fee £1 per person per week. \nNot a member? Come and meet the organiser to be signed in. \nPool and Darts also available.
URL:https://wythallcommunityclub.org.uk/event/summer-skittles-34/2026-07-16/
LOCATION:Wythall House\, Wythall Community Club\, 52 Silver Street\, Wythall\, Birmingham\, West Midlands\, B47 6LZ\, United Kingdom
CATEGORIES:Britannia Room,Skittles
ATTACH;FMTTYPE=image/jpeg:https://wythallcommunityclub.org.uk/wp-content/uploads/2026/03/Summer-Skittles-2026-e1774528496889.jpg
ORGANIZER;CN="Wythall Community Club":MAILTO:enquiries@wythallcommunityclub.org.uk
END:VEVENT
BEGIN:VEVENT
DTSTART;TZID=Europe/London:20260723T210000
DTEND;TZID=Europe/London:20260723T230000
DTSTAMP:20260423T213230
CREATED:20260326T122950Z
LAST-MODIFIED:20260326T123506Z
UID:10005262-1784840400-1784847600@wythallcommunityclub.org.uk
SUMMARY:Summer Skittles
DESCRIPTION:Open to all Club Members and their guests. You don’t need to be in a team to play Summer Skittles as it’s an individuals event. \nPrize each week for the highest score. \nEntry fee £1 per person per week. \nNot a member? Come and meet the organiser to be signed in. \nPool and Darts also available.
URL:https://wythallcommunityclub.org.uk/event/summer-skittles-34/2026-07-23/
LOCATION:Wythall House\, Wythall Community Club\, 52 Silver Street\, Wythall\, Birmingham\, West Midlands\, B47 6LZ\, United Kingdom
CATEGORIES:Britannia Room,Skittles
ATTACH;FMTTYPE=image/jpeg:https://wythallcommunityclub.org.uk/wp-content/uploads/2026/03/Summer-Skittles-2026-e1774528496889.jpg
ORGANIZER;CN="Wythall Community Club":MAILTO:enquiries@wythallcommunityclub.org.uk
END:VEVENT
BEGIN:VEVENT
DTSTART;TZID=Europe/London:20260730T210000
DTEND;TZID=Europe/London:20260730T230000
DTSTAMP:20260423T213230
CREATED:20260326T122950Z
LAST-MODIFIED:20260326T123506Z
UID:10005263-1785445200-1785452400@wythallcommunityclub.org.uk
SUMMARY:Summer Skittles
DESCRIPTION:Open to all Club Members and their guests. You don’t need to be in a team to play Summer Skittles as it’s an individuals event. \nPrize each week for the highest score. \nEntry fee £1 per person per week. \nNot a member? Come and meet the organiser to be signed in. \nPool and Darts also available.
URL:https://wythallcommunityclub.org.uk/event/summer-skittles-34/2026-07-30/
LOCATION:Wythall House\, Wythall Community Club\, 52 Silver Street\, Wythall\, Birmingham\, West Midlands\, B47 6LZ\, United Kingdom
CATEGORIES:Britannia Room,Skittles
ATTACH;FMTTYPE=image/jpeg:https://wythallcommunityclub.org.uk/wp-content/uploads/2026/03/Summer-Skittles-2026-e1774528496889.jpg
ORGANIZER;CN="Wythall Community Club":MAILTO:enquiries@wythallcommunityclub.org.uk
END:VEVENT
BEGIN:VEVENT
DTSTART;TZID=Europe/London:20260806T210000
DTEND;TZID=Europe/London:20260806T230000
DTSTAMP:20260423T213230
CREATED:20260326T122950Z
LAST-MODIFIED:20260326T123506Z
UID:10005264-1786050000-1786057200@wythallcommunityclub.org.uk
SUMMARY:Summer Skittles
DESCRIPTION:Open to all Club Members and their guests. You don’t need to be in a team to play Summer Skittles as it’s an individuals event. \nPrize each week for the highest score. \nEntry fee £1 per person per week. \nNot a member? Come and meet the organiser to be signed in. \nPool and Darts also available.
URL:https://wythallcommunityclub.org.uk/event/summer-skittles-34/2026-08-06/
LOCATION:Wythall House\, Wythall Community Club\, 52 Silver Street\, Wythall\, Birmingham\, West Midlands\, B47 6LZ\, United Kingdom
CATEGORIES:Britannia Room,Skittles
ATTACH;FMTTYPE=image/jpeg:https://wythallcommunityclub.org.uk/wp-content/uploads/2026/03/Summer-Skittles-2026-e1774528496889.jpg
ORGANIZER;CN="Wythall Community Club":MAILTO:enquiries@wythallcommunityclub.org.uk
END:VEVENT
BEGIN:VEVENT
DTSTART;TZID=Europe/London:20260813T210000
DTEND;TZID=Europe/London:20260813T230000
DTSTAMP:20260423T213230
CREATED:20260326T122950Z
LAST-MODIFIED:20260326T123506Z
UID:10005265-1786654800-1786662000@wythallcommunityclub.org.uk
SUMMARY:Summer Skittles
DESCRIPTION:Open to all Club Members and their guests. You don’t need to be in a team to play Summer Skittles as it’s an individuals event. \nPrize each week for the highest score. \nEntry fee £1 per person per week. \nNot a member? Come and meet the organiser to be signed in. \nPool and Darts also available.
URL:https://wythallcommunityclub.org.uk/event/summer-skittles-34/2026-08-13/
LOCATION:Wythall House\, Wythall Community Club\, 52 Silver Street\, Wythall\, Birmingham\, West Midlands\, B47 6LZ\, United Kingdom
CATEGORIES:Britannia Room,Skittles
ATTACH;FMTTYPE=image/jpeg:https://wythallcommunityclub.org.uk/wp-content/uploads/2026/03/Summer-Skittles-2026-e1774528496889.jpg
ORGANIZER;CN="Wythall Community Club":MAILTO:enquiries@wythallcommunityclub.org.uk
END:VEVENT
BEGIN:VEVENT
DTSTART;TZID=Europe/London:20260820T210000
DTEND;TZID=Europe/London:20260820T230000
DTSTAMP:20260423T213230
CREATED:20260326T122950Z
LAST-MODIFIED:20260326T123506Z
UID:10005266-1787259600-1787266800@wythallcommunityclub.org.uk
SUMMARY:Summer Skittles
DESCRIPTION:Open to all Club Members and their guests. You don’t need to be in a team to play Summer Skittles as it’s an individuals event. \nPrize each week for the highest score. \nEntry fee £1 per person per week. \nNot a member? Come and meet the organiser to be signed in. \nPool and Darts also available.
URL:https://wythallcommunityclub.org.uk/event/summer-skittles-34/2026-08-20/
LOCATION:Wythall House\, Wythall Community Club\, 52 Silver Street\, Wythall\, Birmingham\, West Midlands\, B47 6LZ\, United Kingdom
CATEGORIES:Britannia Room,Skittles
ATTACH;FMTTYPE=image/jpeg:https://wythallcommunityclub.org.uk/wp-content/uploads/2026/03/Summer-Skittles-2026-e1774528496889.jpg
ORGANIZER;CN="Wythall Community Club":MAILTO:enquiries@wythallcommunityclub.org.uk
END:VEVENT
BEGIN:VEVENT
DTSTART;TZID=Europe/London:20260827T210000
DTEND;TZID=Europe/London:20260827T230000
DTSTAMP:20260423T213230
CREATED:20260326T122950Z
LAST-MODIFIED:20260326T123506Z
UID:10005267-1787864400-1787871600@wythallcommunityclub.org.uk
SUMMARY:Summer Skittles
DESCRIPTION:Open to all Club Members and their guests. You don’t need to be in a team to play Summer Skittles as it’s an individuals event. \nPrize each week for the highest score. \nEntry fee £1 per person per week. \nNot a member? Come and meet the organiser to be signed in. \nPool and Darts also available.
URL:https://wythallcommunityclub.org.uk/event/summer-skittles-34/2026-08-27/
LOCATION:Wythall House\, Wythall Community Club\, 52 Silver Street\, Wythall\, Birmingham\, West Midlands\, B47 6LZ\, United Kingdom
CATEGORIES:Britannia Room,Skittles
ATTACH;FMTTYPE=image/jpeg:https://wythallcommunityclub.org.uk/wp-content/uploads/2026/03/Summer-Skittles-2026-e1774528496889.jpg
ORGANIZER;CN="Wythall Community Club":MAILTO:enquiries@wythallcommunityclub.org.uk
END:VEVENT
END:VCALENDAR