BEGIN:VCALENDAR
VERSION:2.0
PRODID:-//Wythall Community Club - ECPv6.15.20//NONSGML v1.0//EN
CALSCALE:GREGORIAN
METHOD:PUBLISH
X-WR-CALNAME:Wythall Community Club
X-ORIGINAL-URL:https://wythallcommunityclub.org.uk
X-WR-CALDESC:Events for Wythall Community Club
REFRESH-INTERVAL;VALUE=DURATION:PT1H
X-Robots-Tag:noindex
X-PUBLISHED-TTL:PT1H
BEGIN:VTIMEZONE
TZID:Europe/London
BEGIN:DAYLIGHT
TZOFFSETFROM:+0000
TZOFFSETTO:+0100
TZNAME:BST
DTSTART:20220327T010000
END:DAYLIGHT
BEGIN:STANDARD
TZOFFSETFROM:+0100
TZOFFSETTO:+0000
TZNAME:GMT
DTSTART:20221030T010000
END:STANDARD
BEGIN:DAYLIGHT
TZOFFSETFROM:+0000
TZOFFSETTO:+0100
TZNAME:BST
DTSTART:20230326T010000
END:DAYLIGHT
BEGIN:STANDARD
TZOFFSETFROM:+0100
TZOFFSETTO:+0000
TZNAME:GMT
DTSTART:20231029T010000
END:STANDARD
BEGIN:DAYLIGHT
TZOFFSETFROM:+0000
TZOFFSETTO:+0100
TZNAME:BST
DTSTART:20240331T010000
END:DAYLIGHT
BEGIN:STANDARD
TZOFFSETFROM:+0100
TZOFFSETTO:+0000
TZNAME:GMT
DTSTART:20241027T010000
END:STANDARD
BEGIN:DAYLIGHT
TZOFFSETFROM:+0000
TZOFFSETTO:+0100
TZNAME:BST
DTSTART:20250330T010000
END:DAYLIGHT
BEGIN:STANDARD
TZOFFSETFROM:+0100
TZOFFSETTO:+0000
TZNAME:GMT
DTSTART:20251026T010000
END:STANDARD
END:VTIMEZONE
BEGIN:VEVENT
DTSTART;TZID=Europe/London:20240506T203000
DTEND;TZID=Europe/London:20240506T223000
DTSTAMP:20260425T184328
CREATED:20240309T115617Z
LAST-MODIFIED:20240309T115617Z
UID:10003052-1715027400-1715034600@wythallcommunityclub.org.uk
SUMMARY:Monday Quiz Night
DESCRIPTION:General Knowledge and Music Rounds\nSpot Prizes\nRaffle\nFamily Fun\nTeams are invited from 1 to 6 players\nPrize for the winning team\nThink of a team name.\nThe winners names will be published on our website and social media\nMembers and non-members* are invited to join the quiz\n£6 per team entry fee\n\n\n\n\n\nRegister your team online or on the night. Registering online does not reserve a table. Arrive early to get your favourite spot. \n \n*Non-members will need to signed in. Please see the organiser on arrival.
URL:https://wythallcommunityclub.org.uk/event/monday-quiz-night-15/
LOCATION:Lounge Bar\, Wythall House\, Silver St\, Wythall\, Birmingham\, West Midlands\, B47 6LZ
CATEGORIES:Lounge,Monday Quiz Nights
ORGANIZER;CN="Liz Frost":MAILTO:secretary@wythallcommunityclub.org.uk
END:VEVENT
BEGIN:VEVENT
DTSTART;TZID=Europe/London:20230906T193000
DTEND;TZID=Europe/London:20230906T200000
DTSTAMP:20260425T184328
CREATED:20230726T132429Z
LAST-MODIFIED:20230825T134748Z
UID:10001149-1694028600-1694030400@wythallcommunityclub.org.uk
SUMMARY:Extraordinary General Meeting
DESCRIPTION:WCC Constitution Proposal 2023 DRAFT
URL:https://wythallcommunityclub.org.uk/event/extraordinary-general-meeting/
LOCATION:Britannia Room\, Wythall Community Club\, 52 Silver Street\, Wythall\, Birmingham\, West Midlands\, B47 6LZ\, United Kingdom
CATEGORIES:AGM,Britannia Room
ORGANIZER;CN="Liz Frost":MAILTO:secretary@wythallcommunityclub.org.uk
END:VEVENT
BEGIN:VEVENT
DTSTART;TZID=Europe/London:20230306T193000
DTEND;TZID=Europe/London:20230306T203000
DTSTAMP:20260425T184328
CREATED:20230126T135148Z
LAST-MODIFIED:20230227T170329Z
UID:10000979-1678131000-1678134600@wythallcommunityclub.org.uk
SUMMARY:WCC Annual General Meeting
DESCRIPTION:Wythall Community Club\nAnnual General Meeting\nBritannia Room \nThe Wythall Community Club AGM is nearly upon us and we look forward to seeing as many of our members as possible at the meeting. \nThis is an opportunity to hear what the Committee has been doing over the past few months to improve the Club for its members and encourage new members to join. \nWe would also encourage anyone who feels that they can offer help to nominate themselves as a Committee member or Officer. All our Committee members are volunteers and give up their free time to oversee the Club\, organise and run events\, as well as advertise and promote them. There is so much that we want to do\, but we are limited by the time that people can devote to helping out over and above their working and home lives. \nAnyone interested in becoming a Committee member\, or just helping out more\, please contact any of the Officers or Committee members for more information. \nAny nominations for Committee must be received by the Secretary 48 hours before the AGM (by 7.30pm on 4th March 2023).
URL:https://wythallcommunityclub.org.uk/event/wcc-annual-general-meeting/
LOCATION:Britannia Room\, Wythall Community Club\, 52 Silver Street\, Wythall\, Birmingham\, West Midlands\, B47 6LZ\, United Kingdom
CATEGORIES:AGM,Britannia Room
ATTACH;FMTTYPE=image/jpeg:https://wythallcommunityclub.org.uk/wp-content/uploads/2021/08/AGM.jpg
ORGANIZER;CN="Liz Frost":MAILTO:secretary@wythallcommunityclub.org.uk
END:VEVENT
END:VCALENDAR