BEGIN:VCALENDAR
VERSION:2.0
PRODID:-//Wythall Community Club - ECPv6.15.20//NONSGML v1.0//EN
CALSCALE:GREGORIAN
METHOD:PUBLISH
X-ORIGINAL-URL:https://wythallcommunityclub.org.uk
X-WR-CALDESC:Events for Wythall Community Club
REFRESH-INTERVAL;VALUE=DURATION:PT1H
X-Robots-Tag:noindex
X-PUBLISHED-TTL:PT1H
BEGIN:VTIMEZONE
TZID:Europe/London
BEGIN:DAYLIGHT
TZOFFSETFROM:+0000
TZOFFSETTO:+0100
TZNAME:BST
DTSTART:20240331T010000
END:DAYLIGHT
BEGIN:STANDARD
TZOFFSETFROM:+0100
TZOFFSETTO:+0000
TZNAME:GMT
DTSTART:20241027T010000
END:STANDARD
BEGIN:DAYLIGHT
TZOFFSETFROM:+0000
TZOFFSETTO:+0100
TZNAME:BST
DTSTART:20250330T010000
END:DAYLIGHT
BEGIN:STANDARD
TZOFFSETFROM:+0100
TZOFFSETTO:+0000
TZNAME:GMT
DTSTART:20251026T010000
END:STANDARD
BEGIN:DAYLIGHT
TZOFFSETFROM:+0000
TZOFFSETTO:+0100
TZNAME:BST
DTSTART:20260329T010000
END:DAYLIGHT
BEGIN:STANDARD
TZOFFSETFROM:+0100
TZOFFSETTO:+0000
TZNAME:GMT
DTSTART:20261025T010000
END:STANDARD
END:VTIMEZONE
BEGIN:VEVENT
DTSTART;TZID=Europe/London:20250420T100000
DTEND;TZID=Europe/London:20250420T150000
DTSTAMP:20260419T185928
CREATED:20250225T170652Z
LAST-MODIFIED:20250225T170853Z
UID:10004596-1745143200-1745161200@wythallcommunityclub.org.uk
SUMMARY:Wythall Park Easter Egg Trail
DESCRIPTION:
URL:https://wythallcommunityclub.org.uk/event/wythall-park-easter-egg-trail/
LOCATION:Wythall Park\, Wythall Park\, 52 Silver Street\, Wythall\, Birmingham\, West Midlands\, B47 6LZ\, United Kingdom
CATEGORIES:1st Tidbury Green Scouts,Park
ATTACH;FMTTYPE=image/jpeg:https://wythallcommunityclub.org.uk/wp-content/uploads/2025/02/Wythall-Park-Easter-Egg-Trail-20-April-2025.jpg
ORGANIZER;CN="Wythall Community Association":MAILTO:office@wythall-park.org.uk
END:VEVENT
END:VCALENDAR