BEGIN:VCALENDAR
VERSION:2.0
PRODID:-//Wythall Community Club - ECPv6.15.20//NONSGML v1.0//EN
CALSCALE:GREGORIAN
METHOD:PUBLISH
X-ORIGINAL-URL:https://wythallcommunityclub.org.uk
X-WR-CALDESC:Events for Wythall Community Club
REFRESH-INTERVAL;VALUE=DURATION:PT1H
X-Robots-Tag:noindex
X-PUBLISHED-TTL:PT1H
BEGIN:VTIMEZONE
TZID:Europe/London
BEGIN:DAYLIGHT
TZOFFSETFROM:+0000
TZOFFSETTO:+0100
TZNAME:BST
DTSTART:20240331T010000
END:DAYLIGHT
BEGIN:STANDARD
TZOFFSETFROM:+0100
TZOFFSETTO:+0000
TZNAME:GMT
DTSTART:20241027T010000
END:STANDARD
BEGIN:DAYLIGHT
TZOFFSETFROM:+0000
TZOFFSETTO:+0100
TZNAME:BST
DTSTART:20250330T010000
END:DAYLIGHT
BEGIN:STANDARD
TZOFFSETFROM:+0100
TZOFFSETTO:+0000
TZNAME:GMT
DTSTART:20251026T010000
END:STANDARD
BEGIN:DAYLIGHT
TZOFFSETFROM:+0000
TZOFFSETTO:+0100
TZNAME:BST
DTSTART:20260329T010000
END:DAYLIGHT
BEGIN:STANDARD
TZOFFSETFROM:+0100
TZOFFSETTO:+0000
TZNAME:GMT
DTSTART:20261025T010000
END:STANDARD
END:VTIMEZONE
BEGIN:VEVENT
DTSTART;TZID=Europe/London:20251103T193000
DTEND;TZID=Europe/London:20251103T230000
DTSTAMP:20260420T150433
CREATED:20240406T104107Z
LAST-MODIFIED:20250515T134102Z
UID:10003153-1762198200-1762210800@wythallcommunityclub.org.uk
SUMMARY:Salsa King
DESCRIPTION:It’s great fun\, nice and easy\, lots of laughter and make new friends in the Birmingham and Solihull areas. \n\n\n\n\n\n7:30pm Beginners Salsa – *MONTHLY COURSES AVAILABLE*\n8:30pm Improvers Salsa\n9:30pm – 11pm – Salsa Social with Salsa King DJ Lee\n\n\n\n\n\nFully Licensed Bar & large free Car Park. \nNo partner needed\, no dance experience necessary\, those with two left feet especially welcome! No booking required\, simply turn up & join in the fun. \nAdmission £10 (cash on door) covers BOTH classes. \nor Discounted Monthly Passes available upon request.
URL:https://wythallcommunityclub.org.uk/event/salsa-king/2025-11-03/
LOCATION:Park Hall\, Wythall Community Association\, 52 Silver Street\, Birmingham\, West Midlands\, B47 6LZ\, United Kingdom
CATEGORIES:Park Hall
ATTACH;FMTTYPE=image/jpeg:https://wythallcommunityclub.org.uk/wp-content/uploads/2024/04/Salsa-King.jpg
END:VEVENT
BEGIN:VEVENT
DTSTART;TZID=Europe/London:20251104T200000
DTEND;TZID=Europe/London:20251104T230000
DTSTAMP:20260420T150433
CREATED:20240406T104616Z
LAST-MODIFIED:20241208T123437Z
UID:10003414-1762286400-1762297200@wythallcommunityclub.org.uk
SUMMARY:iDance – Modern Jive\, Salsa\, Tango\, Ballroom
DESCRIPTION:Dance Classes Every Tuesday Evening \n\n\n\n\n\nTimes:\n\n7.45pm Doors open\n8pm – 8.25pm Beginner class\n8.30pm – 9pm Intermediate class\n9pm – 11pm Freestyle\n\n\nEntry\n\n£8 / £3 (if already attended an iDance class night this week)\nStudents £8\nNew members £5\n\n\nFreestyle Events click HERE\n\n\n\n\n\nWith iDance classes\, we start by teaching the fundamentals of dance providing you with the skills necessary to start your\ndance journey with moves taken from a variety of different styles such as Salsa\, Tango\, Ballroom\, modern Jive and many others.\nOur classes are varied and we provide tuition for a range of abilities from absolute beginner through to experienced competitor.
URL:https://wythallcommunityclub.org.uk/event/idance-modern-jive-salsa-tango-ballroom/2025-11-04/
LOCATION:Park Hall\, Wythall Community Association\, 52 Silver Street\, Birmingham\, West Midlands\, B47 6LZ\, United Kingdom
CATEGORIES:Park Hall
ATTACH;FMTTYPE=image/jpeg:https://wythallcommunityclub.org.uk/wp-content/uploads/2024/04/iDance-Wythall.jpg
ORGANIZER;CN="iDance":MAILTO:info@i-dance.co.uk
END:VEVENT
BEGIN:VEVENT
DTSTART;TZID=Europe/London:20251110T193000
DTEND;TZID=Europe/London:20251110T230000
DTSTAMP:20260420T150433
CREATED:20240406T104107Z
LAST-MODIFIED:20250515T134102Z
UID:10003154-1762803000-1762815600@wythallcommunityclub.org.uk
SUMMARY:Salsa King
DESCRIPTION:It’s great fun\, nice and easy\, lots of laughter and make new friends in the Birmingham and Solihull areas. \n\n\n\n\n\n7:30pm Beginners Salsa – *MONTHLY COURSES AVAILABLE*\n8:30pm Improvers Salsa\n9:30pm – 11pm – Salsa Social with Salsa King DJ Lee\n\n\n\n\n\nFully Licensed Bar & large free Car Park. \nNo partner needed\, no dance experience necessary\, those with two left feet especially welcome! No booking required\, simply turn up & join in the fun. \nAdmission £10 (cash on door) covers BOTH classes. \nor Discounted Monthly Passes available upon request.
URL:https://wythallcommunityclub.org.uk/event/salsa-king/2025-11-10/
LOCATION:Park Hall\, Wythall Community Association\, 52 Silver Street\, Birmingham\, West Midlands\, B47 6LZ\, United Kingdom
CATEGORIES:Park Hall
ATTACH;FMTTYPE=image/jpeg:https://wythallcommunityclub.org.uk/wp-content/uploads/2024/04/Salsa-King.jpg
END:VEVENT
BEGIN:VEVENT
DTSTART;TZID=Europe/London:20251111T200000
DTEND;TZID=Europe/London:20251111T230000
DTSTAMP:20260420T150433
CREATED:20240406T104616Z
LAST-MODIFIED:20241208T123437Z
UID:10003415-1762891200-1762902000@wythallcommunityclub.org.uk
SUMMARY:iDance – Modern Jive\, Salsa\, Tango\, Ballroom
DESCRIPTION:Dance Classes Every Tuesday Evening \n\n\n\n\n\nTimes:\n\n7.45pm Doors open\n8pm – 8.25pm Beginner class\n8.30pm – 9pm Intermediate class\n9pm – 11pm Freestyle\n\n\nEntry\n\n£8 / £3 (if already attended an iDance class night this week)\nStudents £8\nNew members £5\n\n\nFreestyle Events click HERE\n\n\n\n\n\nWith iDance classes\, we start by teaching the fundamentals of dance providing you with the skills necessary to start your\ndance journey with moves taken from a variety of different styles such as Salsa\, Tango\, Ballroom\, modern Jive and many others.\nOur classes are varied and we provide tuition for a range of abilities from absolute beginner through to experienced competitor.
URL:https://wythallcommunityclub.org.uk/event/idance-modern-jive-salsa-tango-ballroom/2025-11-11/
LOCATION:Park Hall\, Wythall Community Association\, 52 Silver Street\, Birmingham\, West Midlands\, B47 6LZ\, United Kingdom
CATEGORIES:Park Hall
ATTACH;FMTTYPE=image/jpeg:https://wythallcommunityclub.org.uk/wp-content/uploads/2024/04/iDance-Wythall.jpg
ORGANIZER;CN="iDance":MAILTO:info@i-dance.co.uk
END:VEVENT
BEGIN:VEVENT
DTSTART;TZID=Europe/London:20251117T193000
DTEND;TZID=Europe/London:20251117T230000
DTSTAMP:20260420T150433
CREATED:20240406T104107Z
LAST-MODIFIED:20250515T134102Z
UID:10003155-1763407800-1763420400@wythallcommunityclub.org.uk
SUMMARY:Salsa King
DESCRIPTION:It’s great fun\, nice and easy\, lots of laughter and make new friends in the Birmingham and Solihull areas. \n\n\n\n\n\n7:30pm Beginners Salsa – *MONTHLY COURSES AVAILABLE*\n8:30pm Improvers Salsa\n9:30pm – 11pm – Salsa Social with Salsa King DJ Lee\n\n\n\n\n\nFully Licensed Bar & large free Car Park. \nNo partner needed\, no dance experience necessary\, those with two left feet especially welcome! No booking required\, simply turn up & join in the fun. \nAdmission £10 (cash on door) covers BOTH classes. \nor Discounted Monthly Passes available upon request.
URL:https://wythallcommunityclub.org.uk/event/salsa-king/2025-11-17/
LOCATION:Park Hall\, Wythall Community Association\, 52 Silver Street\, Birmingham\, West Midlands\, B47 6LZ\, United Kingdom
CATEGORIES:Park Hall
ATTACH;FMTTYPE=image/jpeg:https://wythallcommunityclub.org.uk/wp-content/uploads/2024/04/Salsa-King.jpg
END:VEVENT
BEGIN:VEVENT
DTSTART;TZID=Europe/London:20251118T200000
DTEND;TZID=Europe/London:20251118T230000
DTSTAMP:20260420T150433
CREATED:20240406T104616Z
LAST-MODIFIED:20241208T123437Z
UID:10003416-1763496000-1763506800@wythallcommunityclub.org.uk
SUMMARY:iDance – Modern Jive\, Salsa\, Tango\, Ballroom
DESCRIPTION:Dance Classes Every Tuesday Evening \n\n\n\n\n\nTimes:\n\n7.45pm Doors open\n8pm – 8.25pm Beginner class\n8.30pm – 9pm Intermediate class\n9pm – 11pm Freestyle\n\n\nEntry\n\n£8 / £3 (if already attended an iDance class night this week)\nStudents £8\nNew members £5\n\n\nFreestyle Events click HERE\n\n\n\n\n\nWith iDance classes\, we start by teaching the fundamentals of dance providing you with the skills necessary to start your\ndance journey with moves taken from a variety of different styles such as Salsa\, Tango\, Ballroom\, modern Jive and many others.\nOur classes are varied and we provide tuition for a range of abilities from absolute beginner through to experienced competitor.
URL:https://wythallcommunityclub.org.uk/event/idance-modern-jive-salsa-tango-ballroom/2025-11-18/
LOCATION:Park Hall\, Wythall Community Association\, 52 Silver Street\, Birmingham\, West Midlands\, B47 6LZ\, United Kingdom
CATEGORIES:Park Hall
ATTACH;FMTTYPE=image/jpeg:https://wythallcommunityclub.org.uk/wp-content/uploads/2024/04/iDance-Wythall.jpg
ORGANIZER;CN="iDance":MAILTO:info@i-dance.co.uk
END:VEVENT
BEGIN:VEVENT
DTSTART;TZID=Europe/London:20251124T193000
DTEND;TZID=Europe/London:20251124T230000
DTSTAMP:20260420T150433
CREATED:20240406T104107Z
LAST-MODIFIED:20250515T134102Z
UID:10003156-1764012600-1764025200@wythallcommunityclub.org.uk
SUMMARY:Salsa King
DESCRIPTION:It’s great fun\, nice and easy\, lots of laughter and make new friends in the Birmingham and Solihull areas. \n\n\n\n\n\n7:30pm Beginners Salsa – *MONTHLY COURSES AVAILABLE*\n8:30pm Improvers Salsa\n9:30pm – 11pm – Salsa Social with Salsa King DJ Lee\n\n\n\n\n\nFully Licensed Bar & large free Car Park. \nNo partner needed\, no dance experience necessary\, those with two left feet especially welcome! No booking required\, simply turn up & join in the fun. \nAdmission £10 (cash on door) covers BOTH classes. \nor Discounted Monthly Passes available upon request.
URL:https://wythallcommunityclub.org.uk/event/salsa-king/2025-11-24/
LOCATION:Park Hall\, Wythall Community Association\, 52 Silver Street\, Birmingham\, West Midlands\, B47 6LZ\, United Kingdom
CATEGORIES:Park Hall
ATTACH;FMTTYPE=image/jpeg:https://wythallcommunityclub.org.uk/wp-content/uploads/2024/04/Salsa-King.jpg
END:VEVENT
BEGIN:VEVENT
DTSTART;TZID=Europe/London:20251125T200000
DTEND;TZID=Europe/London:20251125T230000
DTSTAMP:20260420T150433
CREATED:20240406T104616Z
LAST-MODIFIED:20241208T123437Z
UID:10003417-1764100800-1764111600@wythallcommunityclub.org.uk
SUMMARY:iDance – Modern Jive\, Salsa\, Tango\, Ballroom
DESCRIPTION:Dance Classes Every Tuesday Evening \n\n\n\n\n\nTimes:\n\n7.45pm Doors open\n8pm – 8.25pm Beginner class\n8.30pm – 9pm Intermediate class\n9pm – 11pm Freestyle\n\n\nEntry\n\n£8 / £3 (if already attended an iDance class night this week)\nStudents £8\nNew members £5\n\n\nFreestyle Events click HERE\n\n\n\n\n\nWith iDance classes\, we start by teaching the fundamentals of dance providing you with the skills necessary to start your\ndance journey with moves taken from a variety of different styles such as Salsa\, Tango\, Ballroom\, modern Jive and many others.\nOur classes are varied and we provide tuition for a range of abilities from absolute beginner through to experienced competitor.
URL:https://wythallcommunityclub.org.uk/event/idance-modern-jive-salsa-tango-ballroom/2025-11-25/
LOCATION:Park Hall\, Wythall Community Association\, 52 Silver Street\, Birmingham\, West Midlands\, B47 6LZ\, United Kingdom
CATEGORIES:Park Hall
ATTACH;FMTTYPE=image/jpeg:https://wythallcommunityclub.org.uk/wp-content/uploads/2024/04/iDance-Wythall.jpg
ORGANIZER;CN="iDance":MAILTO:info@i-dance.co.uk
END:VEVENT
END:VCALENDAR