BEGIN:VCALENDAR
VERSION:2.0
PRODID:-//Wythall Community Club - ECPv6.15.20//NONSGML v1.0//EN
CALSCALE:GREGORIAN
METHOD:PUBLISH
X-ORIGINAL-URL:https://wythallcommunityclub.org.uk
X-WR-CALDESC:Events for Wythall Community Club
REFRESH-INTERVAL;VALUE=DURATION:PT1H
X-Robots-Tag:noindex
X-PUBLISHED-TTL:PT1H
BEGIN:VTIMEZONE
TZID:Europe/London
BEGIN:DAYLIGHT
TZOFFSETFROM:+0000
TZOFFSETTO:+0100
TZNAME:BST
DTSTART:20230326T010000
END:DAYLIGHT
BEGIN:STANDARD
TZOFFSETFROM:+0100
TZOFFSETTO:+0000
TZNAME:GMT
DTSTART:20231029T010000
END:STANDARD
BEGIN:DAYLIGHT
TZOFFSETFROM:+0000
TZOFFSETTO:+0100
TZNAME:BST
DTSTART:20240331T010000
END:DAYLIGHT
BEGIN:STANDARD
TZOFFSETFROM:+0100
TZOFFSETTO:+0000
TZNAME:GMT
DTSTART:20241027T010000
END:STANDARD
BEGIN:DAYLIGHT
TZOFFSETFROM:+0000
TZOFFSETTO:+0100
TZNAME:BST
DTSTART:20250330T010000
END:DAYLIGHT
BEGIN:STANDARD
TZOFFSETFROM:+0100
TZOFFSETTO:+0000
TZNAME:GMT
DTSTART:20251026T010000
END:STANDARD
END:VTIMEZONE
BEGIN:VEVENT
DTSTART;TZID=Europe/London:20241205T180000
DTEND;TZID=Europe/London:20241205T190000
DTSTAMP:20260423T230042
CREATED:20230126T164334Z
LAST-MODIFIED:20251213T120008Z
UID:10001748-1733421600-1733425200@wythallcommunityclub.org.uk
SUMMARY:Wythall Martial Arts Club - Junior Jujitsu
DESCRIPTION:We are a Birmingham martial arts club teaching a mixture of self-defence and martial arts using a combination of Jujitsu\, Judo and Aikido\, catering for everyone interested in self defence\, from absolute beginners to high level black belt experts. Beeches is a family run club with 3 generations of family studying martial arts\, that’s over 40 years in total. \nClub Timetable and Classes (Wythall)\nThursdays – Junior jujitsu – 6:00pm  to 7:00pm ages 5 to 14 \nThursdays – Adult jujitsu – 7:00pm to 8:00pm ages 14+
URL:https://wythallcommunityclub.org.uk/event/wythall-martial-arts-club-adult-jujitsu-65/2024-12-05/
LOCATION:Britannia Room\, Wythall Community Club\, 52 Silver Street\, Wythall\, Birmingham\, West Midlands\, B47 6LZ\, United Kingdom
CATEGORIES:Britannia Room
ATTACH;FMTTYPE=image/png:https://wythallcommunityclub.org.uk/wp-content/uploads/2022/04/beeches-logo-lSMNpb.tmp_.png
ORGANIZER;CN="Sensei Paul Taylor":MAILTO:enquiries@beeches-martialarts.co.uk
END:VEVENT
BEGIN:VEVENT
DTSTART;TZID=Europe/London:20241205T190000
DTEND;TZID=Europe/London:20241205T200000
DTSTAMP:20260423T230042
CREATED:20230126T164333Z
LAST-MODIFIED:20251213T120051Z
UID:10002009-1733425200-1733428800@wythallcommunityclub.org.uk
SUMMARY:Wythall Martial Arts Club - Adult Jujitsu
DESCRIPTION:We are a Birmingham martial arts club teaching a mixture of self-defence and martial arts using a combination of Jujitsu\, Judo and Aikido\, catering for everyone interested in self defence\, from absolute beginners to high level black belt experts. Beeches is a family run club with 3 generations of family studying martial arts\, that’s over 40 years in total. \nClub Timetable and Classes (Wythall)\nThursdays – Junior jujitsu – 6:00pm  to 7:00pm ages 5 to 14 \nThursdays – Adult jujitsu – 7:00pm to 8:00pm ages 14+
URL:https://wythallcommunityclub.org.uk/event/wythall-martial-arts-club-adult-jujitsu-64/2024-12-05/
LOCATION:Britannia Room\, Wythall Community Club\, 52 Silver Street\, Wythall\, Birmingham\, West Midlands\, B47 6LZ\, United Kingdom
CATEGORIES:Britannia Room
ATTACH;FMTTYPE=image/png:https://wythallcommunityclub.org.uk/wp-content/uploads/2022/04/beeches-logo-lSMNpb.tmp_.png
ORGANIZER;CN="Sensei Paul Taylor":MAILTO:enquiries@beeches-martialarts.co.uk
END:VEVENT
BEGIN:VEVENT
DTSTART;TZID=Europe/London:20241212T180000
DTEND;TZID=Europe/London:20241212T190000
DTSTAMP:20260423T230042
CREATED:20230126T164334Z
LAST-MODIFIED:20251213T120008Z
UID:10001749-1734026400-1734030000@wythallcommunityclub.org.uk
SUMMARY:Wythall Martial Arts Club - Junior Jujitsu
DESCRIPTION:We are a Birmingham martial arts club teaching a mixture of self-defence and martial arts using a combination of Jujitsu\, Judo and Aikido\, catering for everyone interested in self defence\, from absolute beginners to high level black belt experts. Beeches is a family run club with 3 generations of family studying martial arts\, that’s over 40 years in total. \nClub Timetable and Classes (Wythall)\nThursdays – Junior jujitsu – 6:00pm  to 7:00pm ages 5 to 14 \nThursdays – Adult jujitsu – 7:00pm to 8:00pm ages 14+
URL:https://wythallcommunityclub.org.uk/event/wythall-martial-arts-club-adult-jujitsu-65/2024-12-12/
LOCATION:Britannia Room\, Wythall Community Club\, 52 Silver Street\, Wythall\, Birmingham\, West Midlands\, B47 6LZ\, United Kingdom
CATEGORIES:Britannia Room
ATTACH;FMTTYPE=image/png:https://wythallcommunityclub.org.uk/wp-content/uploads/2022/04/beeches-logo-lSMNpb.tmp_.png
ORGANIZER;CN="Sensei Paul Taylor":MAILTO:enquiries@beeches-martialarts.co.uk
END:VEVENT
BEGIN:VEVENT
DTSTART;TZID=Europe/London:20241212T190000
DTEND;TZID=Europe/London:20241212T200000
DTSTAMP:20260423T230042
CREATED:20230126T164333Z
LAST-MODIFIED:20251213T120051Z
UID:10002010-1734030000-1734033600@wythallcommunityclub.org.uk
SUMMARY:Wythall Martial Arts Club - Adult Jujitsu
DESCRIPTION:We are a Birmingham martial arts club teaching a mixture of self-defence and martial arts using a combination of Jujitsu\, Judo and Aikido\, catering for everyone interested in self defence\, from absolute beginners to high level black belt experts. Beeches is a family run club with 3 generations of family studying martial arts\, that’s over 40 years in total. \nClub Timetable and Classes (Wythall)\nThursdays – Junior jujitsu – 6:00pm  to 7:00pm ages 5 to 14 \nThursdays – Adult jujitsu – 7:00pm to 8:00pm ages 14+
URL:https://wythallcommunityclub.org.uk/event/wythall-martial-arts-club-adult-jujitsu-64/2024-12-12/
LOCATION:Britannia Room\, Wythall Community Club\, 52 Silver Street\, Wythall\, Birmingham\, West Midlands\, B47 6LZ\, United Kingdom
CATEGORIES:Britannia Room
ATTACH;FMTTYPE=image/png:https://wythallcommunityclub.org.uk/wp-content/uploads/2022/04/beeches-logo-lSMNpb.tmp_.png
ORGANIZER;CN="Sensei Paul Taylor":MAILTO:enquiries@beeches-martialarts.co.uk
END:VEVENT
BEGIN:VEVENT
DTSTART;TZID=Europe/London:20241219T180000
DTEND;TZID=Europe/London:20241219T190000
DTSTAMP:20260423T230042
CREATED:20230126T164334Z
LAST-MODIFIED:20251213T120008Z
UID:10001750-1734631200-1734634800@wythallcommunityclub.org.uk
SUMMARY:Wythall Martial Arts Club - Junior Jujitsu
DESCRIPTION:We are a Birmingham martial arts club teaching a mixture of self-defence and martial arts using a combination of Jujitsu\, Judo and Aikido\, catering for everyone interested in self defence\, from absolute beginners to high level black belt experts. Beeches is a family run club with 3 generations of family studying martial arts\, that’s over 40 years in total. \nClub Timetable and Classes (Wythall)\nThursdays – Junior jujitsu – 6:00pm  to 7:00pm ages 5 to 14 \nThursdays – Adult jujitsu – 7:00pm to 8:00pm ages 14+
URL:https://wythallcommunityclub.org.uk/event/wythall-martial-arts-club-adult-jujitsu-65/2024-12-19/
LOCATION:Britannia Room\, Wythall Community Club\, 52 Silver Street\, Wythall\, Birmingham\, West Midlands\, B47 6LZ\, United Kingdom
CATEGORIES:Britannia Room
ATTACH;FMTTYPE=image/png:https://wythallcommunityclub.org.uk/wp-content/uploads/2022/04/beeches-logo-lSMNpb.tmp_.png
ORGANIZER;CN="Sensei Paul Taylor":MAILTO:enquiries@beeches-martialarts.co.uk
END:VEVENT
BEGIN:VEVENT
DTSTART;TZID=Europe/London:20241219T190000
DTEND;TZID=Europe/London:20241219T200000
DTSTAMP:20260423T230042
CREATED:20230126T164333Z
LAST-MODIFIED:20251213T120051Z
UID:10002011-1734634800-1734638400@wythallcommunityclub.org.uk
SUMMARY:Wythall Martial Arts Club - Adult Jujitsu
DESCRIPTION:We are a Birmingham martial arts club teaching a mixture of self-defence and martial arts using a combination of Jujitsu\, Judo and Aikido\, catering for everyone interested in self defence\, from absolute beginners to high level black belt experts. Beeches is a family run club with 3 generations of family studying martial arts\, that’s over 40 years in total. \nClub Timetable and Classes (Wythall)\nThursdays – Junior jujitsu – 6:00pm  to 7:00pm ages 5 to 14 \nThursdays – Adult jujitsu – 7:00pm to 8:00pm ages 14+
URL:https://wythallcommunityclub.org.uk/event/wythall-martial-arts-club-adult-jujitsu-64/2024-12-19/
LOCATION:Britannia Room\, Wythall Community Club\, 52 Silver Street\, Wythall\, Birmingham\, West Midlands\, B47 6LZ\, United Kingdom
CATEGORIES:Britannia Room
ATTACH;FMTTYPE=image/png:https://wythallcommunityclub.org.uk/wp-content/uploads/2022/04/beeches-logo-lSMNpb.tmp_.png
ORGANIZER;CN="Sensei Paul Taylor":MAILTO:enquiries@beeches-martialarts.co.uk
END:VEVENT
BEGIN:VEVENT
DTSTART;TZID=Europe/London:20241226T180000
DTEND;TZID=Europe/London:20241226T190000
DTSTAMP:20260423T230042
CREATED:20230126T164334Z
LAST-MODIFIED:20251213T120008Z
UID:10005050-1735236000-1735239600@wythallcommunityclub.org.uk
SUMMARY:Wythall Martial Arts Club - Junior Jujitsu
DESCRIPTION:We are a Birmingham martial arts club teaching a mixture of self-defence and martial arts using a combination of Jujitsu\, Judo and Aikido\, catering for everyone interested in self defence\, from absolute beginners to high level black belt experts. Beeches is a family run club with 3 generations of family studying martial arts\, that’s over 40 years in total. \nClub Timetable and Classes (Wythall)\nThursdays – Junior jujitsu – 6:00pm  to 7:00pm ages 5 to 14 \nThursdays – Adult jujitsu – 7:00pm to 8:00pm ages 14+
URL:https://wythallcommunityclub.org.uk/event/wythall-martial-arts-club-adult-jujitsu-65/2024-12-26/
LOCATION:Britannia Room\, Wythall Community Club\, 52 Silver Street\, Wythall\, Birmingham\, West Midlands\, B47 6LZ\, United Kingdom
CATEGORIES:Britannia Room
ATTACH;FMTTYPE=image/png:https://wythallcommunityclub.org.uk/wp-content/uploads/2022/04/beeches-logo-lSMNpb.tmp_.png
ORGANIZER;CN="Sensei Paul Taylor":MAILTO:enquiries@beeches-martialarts.co.uk
END:VEVENT
BEGIN:VEVENT
DTSTART;TZID=Europe/London:20241226T190000
DTEND;TZID=Europe/London:20241226T200000
DTSTAMP:20260423T230042
CREATED:20230126T164333Z
LAST-MODIFIED:20251213T120051Z
UID:10005109-1735239600-1735243200@wythallcommunityclub.org.uk
SUMMARY:Wythall Martial Arts Club - Adult Jujitsu
DESCRIPTION:We are a Birmingham martial arts club teaching a mixture of self-defence and martial arts using a combination of Jujitsu\, Judo and Aikido\, catering for everyone interested in self defence\, from absolute beginners to high level black belt experts. Beeches is a family run club with 3 generations of family studying martial arts\, that’s over 40 years in total. \nClub Timetable and Classes (Wythall)\nThursdays – Junior jujitsu – 6:00pm  to 7:00pm ages 5 to 14 \nThursdays – Adult jujitsu – 7:00pm to 8:00pm ages 14+
URL:https://wythallcommunityclub.org.uk/event/wythall-martial-arts-club-adult-jujitsu-64/2024-12-26/
LOCATION:Britannia Room\, Wythall Community Club\, 52 Silver Street\, Wythall\, Birmingham\, West Midlands\, B47 6LZ\, United Kingdom
CATEGORIES:Britannia Room
ATTACH;FMTTYPE=image/png:https://wythallcommunityclub.org.uk/wp-content/uploads/2022/04/beeches-logo-lSMNpb.tmp_.png
ORGANIZER;CN="Sensei Paul Taylor":MAILTO:enquiries@beeches-martialarts.co.uk
END:VEVENT
END:VCALENDAR