BEGIN:VCALENDAR
VERSION:2.0
PRODID:-//Wythall Community Club - ECPv6.15.20//NONSGML v1.0//EN
CALSCALE:GREGORIAN
METHOD:PUBLISH
X-ORIGINAL-URL:https://wythallcommunityclub.org.uk
X-WR-CALDESC:Events for Wythall Community Club
REFRESH-INTERVAL;VALUE=DURATION:PT1H
X-Robots-Tag:noindex
X-PUBLISHED-TTL:PT1H
BEGIN:VTIMEZONE
TZID:Europe/London
BEGIN:DAYLIGHT
TZOFFSETFROM:+0000
TZOFFSETTO:+0100
TZNAME:BST
DTSTART:20230326T010000
END:DAYLIGHT
BEGIN:STANDARD
TZOFFSETFROM:+0100
TZOFFSETTO:+0000
TZNAME:GMT
DTSTART:20231029T010000
END:STANDARD
BEGIN:DAYLIGHT
TZOFFSETFROM:+0000
TZOFFSETTO:+0100
TZNAME:BST
DTSTART:20240331T010000
END:DAYLIGHT
BEGIN:STANDARD
TZOFFSETFROM:+0100
TZOFFSETTO:+0000
TZNAME:GMT
DTSTART:20241027T010000
END:STANDARD
BEGIN:DAYLIGHT
TZOFFSETFROM:+0000
TZOFFSETTO:+0100
TZNAME:BST
DTSTART:20250330T010000
END:DAYLIGHT
BEGIN:STANDARD
TZOFFSETFROM:+0100
TZOFFSETTO:+0000
TZNAME:GMT
DTSTART:20251026T010000
END:STANDARD
BEGIN:DAYLIGHT
TZOFFSETFROM:+0000
TZOFFSETTO:+0100
TZNAME:BST
DTSTART:20260329T010000
END:DAYLIGHT
BEGIN:STANDARD
TZOFFSETFROM:+0100
TZOFFSETTO:+0000
TZNAME:GMT
DTSTART:20261025T010000
END:STANDARD
END:VTIMEZONE
BEGIN:VEVENT
DTSTART;TZID=Europe/London:20251114T190000
DTEND;TZID=Europe/London:20251114T230000
DTSTAMP:20260421T161917
CREATED:20250828T104102Z
LAST-MODIFIED:20250828T104102Z
UID:10004756-1763146800-1763161200@wythallcommunityclub.org.uk
SUMMARY:Hollywood Comedy Club presents John Archer
DESCRIPTION:John Archer – the man who hoodwinked Penn & Teller\n\n\nJohn Archer\, the UK’s foremost comedian and magician makes a long overdue visit to Hollywood Comedy Club. We are so excited to bring you this phenomenal act!\n\n\n\n\n\n\n14 Nov 2025\, 20:00 – 22:45
URL:https://wythallcommunityclub.org.uk/event/hollywood-comedy-club-presents-john-archer/
LOCATION:Park Hall\, Wythall Community Association\, 52 Silver Street\, Birmingham\, West Midlands\, B47 6LZ\, United Kingdom
CATEGORIES:Hollywood Comedy Club,Park Hall
ATTACH;FMTTYPE=image/png:https://wythallcommunityclub.org.uk/wp-content/uploads/2025/08/John-Archer.png
ORGANIZER;CN="Hollywood Comedy Club":MAILTO:HollywoodComedyClubB47@gmail.com
END:VEVENT
BEGIN:VEVENT
DTSTART;TZID=Europe/London:20250919T190000
DTEND;TZID=Europe/London:20250919T230000
DTSTAMP:20260421T161917
CREATED:20250828T103659Z
LAST-MODIFIED:20250828T103739Z
UID:10004755-1758308400-1758322800@wythallcommunityclub.org.uk
SUMMARY:Hollywood Comedy Club presents Lost Voice Guy
DESCRIPTION:Britain’s Got Talent WINNER – Lost Voice Guy \nLee Ridley\, better known by his stage name the Lost Voice Guy\, is an English stand-up comedian. Disabled since early life\, and unable to speak\, in June 2018 he won the 12th series of Britain’s Got Talent\, and now he’s coming to Hollywood & Wythall! \n19 Sept 2025\, 20:00 – 22:40
URL:https://wythallcommunityclub.org.uk/event/hollywood-comedy-club-presents-lost-voice-guy/
LOCATION:Park Hall\, Wythall Community Association\, 52 Silver Street\, Birmingham\, West Midlands\, B47 6LZ\, United Kingdom
CATEGORIES:Hollywood Comedy Club,Park Hall
ATTACH;FMTTYPE=image/png:https://wythallcommunityclub.org.uk/wp-content/uploads/2025/08/Lost-Voice-Guy.png
ORGANIZER;CN="Hollywood Comedy Club":MAILTO:HollywoodComedyClubB47@gmail.com
END:VEVENT
BEGIN:VEVENT
DTSTART;TZID=Europe/London:20250516T190000
DTEND;TZID=Europe/London:20250516T233000
DTSTAMP:20260421T161917
CREATED:20250326T161125Z
LAST-MODIFIED:20250326T161126Z
UID:10004600-1747422000-1747438200@wythallcommunityclub.org.uk
SUMMARY:Hollywood Comedy Club presents Bobby Davro
DESCRIPTION:
URL:https://wythallcommunityclub.org.uk/event/hollywood-comedy-club-presents-bobby-davro/
LOCATION:Park Hall\, Wythall Community Association\, 52 Silver Street\, Birmingham\, West Midlands\, B47 6LZ\, United Kingdom
CATEGORIES:Hollywood Comedy Club,Park Hall
ORGANIZER;CN="Hollywood Comedy Club":MAILTO:HollywoodComedyClubB47@gmail.com
END:VEVENT
BEGIN:VEVENT
DTSTART;TZID=Europe/London:20250314T200000
DTEND;TZID=Europe/London:20250314T230000
DTSTAMP:20260421T161917
CREATED:20250121T112027Z
LAST-MODIFIED:20250121T112027Z
UID:10004473-1741982400-1741993200@wythallcommunityclub.org.uk
SUMMARY:Hollywood Comedy Club Presents Jimmy Cricket
DESCRIPTION:Remember when Jimmy Cricket used to have his own TV show in the 1980s? Maybe some of you do. If you don’t… well\, he did. He was incredibly famous – a proper household name. He was also a regular on all the Royal Variety shows that we used to watch. \nWell\, after 50 years as a stand-up comedian\, he has finally made it to Wythall.This is going to be a show to remember.And there’s more…As well as Jimmy\, Kevin Daniel will be returning to Hollywood. Also performing will be Mat and Sean\, and our regular comedy magician Damon Conlan.We’re selling the 100 tickets for this show at the special price of £12.50 each. As usual\, there’s no booking fee and the bar will be cheap! \nAges – 16+ only \nIf you would like to buy tickets for this show\,see link below!
URL:https://wythallcommunityclub.org.uk/event/hollywood-comedy-club-presents-jimmy-cricket/
LOCATION:Park Hall\, Wythall Community Association\, 52 Silver Street\, Birmingham\, West Midlands\, B47 6LZ\, United Kingdom
CATEGORIES:Hollywood Comedy Club,Park Hall
ORGANIZER;CN="Hollywood Comedy Club":MAILTO:HollywoodComedyClubB47@gmail.com
END:VEVENT
BEGIN:VEVENT
DTSTART;TZID=Europe/London:20240913T190000
DTEND;TZID=Europe/London:20240913T230000
DTSTAMP:20260421T161917
CREATED:20240524T121406Z
LAST-MODIFIED:20240524T121406Z
UID:10003710-1726254000-1726268400@wythallcommunityclub.org.uk
SUMMARY:Hollywood Comedy Club Featuring Barbara Nice
DESCRIPTION:Hollywood Comedy Club presents local comedy legend \nBARBARA NICE\nWith support from: \n\n\n\n\n\nAdam Beardsmore\nDom Bant\nDamon Conlan\n\n\n\n\n\nHosted by Sean Taylor and Mat Taylor \nDoors open at 7pm \n16+ Years old only \nTickets £10 each
URL:https://wythallcommunityclub.org.uk/event/hollywood-comedy-club-featuring-barbara-nice/
LOCATION:Park Hall\, Wythall Community Association\, 52 Silver Street\, Birmingham\, West Midlands\, B47 6LZ\, United Kingdom
CATEGORIES:Hollywood Comedy Club,Park Hall
ORGANIZER;CN="Hollywood Comedy Club":MAILTO:HollywoodComedyClubB47@gmail.com
END:VEVENT
END:VCALENDAR