BEGIN:VCALENDAR
VERSION:2.0
PRODID:-//Wythall Community Club - ECPv6.15.20//NONSGML v1.0//EN
CALSCALE:GREGORIAN
METHOD:PUBLISH
X-ORIGINAL-URL:https://wythallcommunityclub.org.uk
X-WR-CALDESC:Events for Wythall Community Club
REFRESH-INTERVAL;VALUE=DURATION:PT1H
X-Robots-Tag:noindex
X-PUBLISHED-TTL:PT1H
BEGIN:VTIMEZONE
TZID:Europe/London
BEGIN:DAYLIGHT
TZOFFSETFROM:+0000
TZOFFSETTO:+0100
TZNAME:BST
DTSTART:20240331T010000
END:DAYLIGHT
BEGIN:STANDARD
TZOFFSETFROM:+0100
TZOFFSETTO:+0000
TZNAME:GMT
DTSTART:20241027T010000
END:STANDARD
BEGIN:DAYLIGHT
TZOFFSETFROM:+0000
TZOFFSETTO:+0100
TZNAME:BST
DTSTART:20250330T010000
END:DAYLIGHT
BEGIN:STANDARD
TZOFFSETFROM:+0100
TZOFFSETTO:+0000
TZNAME:GMT
DTSTART:20251026T010000
END:STANDARD
BEGIN:DAYLIGHT
TZOFFSETFROM:+0000
TZOFFSETTO:+0100
TZNAME:BST
DTSTART:20260329T010000
END:DAYLIGHT
BEGIN:STANDARD
TZOFFSETFROM:+0100
TZOFFSETTO:+0000
TZNAME:GMT
DTSTART:20261025T010000
END:STANDARD
END:VTIMEZONE
BEGIN:VEVENT
DTSTART;TZID=Europe/London:20251201T193000
DTEND;TZID=Europe/London:20251201T230000
DTSTAMP:20260422T142643
CREATED:20240406T104107Z
LAST-MODIFIED:20250515T134102Z
UID:10003157-1764617400-1764630000@wythallcommunityclub.org.uk
SUMMARY:Salsa King
DESCRIPTION:It’s great fun\, nice and easy\, lots of laughter and make new friends in the Birmingham and Solihull areas. \n\n\n\n\n\n7:30pm Beginners Salsa – *MONTHLY COURSES AVAILABLE*\n8:30pm Improvers Salsa\n9:30pm – 11pm – Salsa Social with Salsa King DJ Lee\n\n\n\n\n\nFully Licensed Bar & large free Car Park. \nNo partner needed\, no dance experience necessary\, those with two left feet especially welcome! No booking required\, simply turn up & join in the fun. \nAdmission £10 (cash on door) covers BOTH classes. \nor Discounted Monthly Passes available upon request.
URL:https://wythallcommunityclub.org.uk/event/salsa-king/2025-12-01/
LOCATION:Park Hall\, Wythall Community Association\, 52 Silver Street\, Birmingham\, West Midlands\, B47 6LZ\, United Kingdom
CATEGORIES:Park Hall
ATTACH;FMTTYPE=image/jpeg:https://wythallcommunityclub.org.uk/wp-content/uploads/2024/04/Salsa-King.jpg
END:VEVENT
BEGIN:VEVENT
DTSTART;TZID=Europe/London:20251202T200000
DTEND;TZID=Europe/London:20251202T230000
DTSTAMP:20260422T142643
CREATED:20240406T104616Z
LAST-MODIFIED:20241208T123437Z
UID:10003418-1764705600-1764716400@wythallcommunityclub.org.uk
SUMMARY:iDance – Modern Jive\, Salsa\, Tango\, Ballroom
DESCRIPTION:Dance Classes Every Tuesday Evening \n\n\n\n\n\nTimes:\n\n7.45pm Doors open\n8pm – 8.25pm Beginner class\n8.30pm – 9pm Intermediate class\n9pm – 11pm Freestyle\n\n\nEntry\n\n£8 / £3 (if already attended an iDance class night this week)\nStudents £8\nNew members £5\n\n\nFreestyle Events click HERE\n\n\n\n\n\nWith iDance classes\, we start by teaching the fundamentals of dance providing you with the skills necessary to start your\ndance journey with moves taken from a variety of different styles such as Salsa\, Tango\, Ballroom\, modern Jive and many others.\nOur classes are varied and we provide tuition for a range of abilities from absolute beginner through to experienced competitor.
URL:https://wythallcommunityclub.org.uk/event/idance-modern-jive-salsa-tango-ballroom/2025-12-02/
LOCATION:Park Hall\, Wythall Community Association\, 52 Silver Street\, Birmingham\, West Midlands\, B47 6LZ\, United Kingdom
CATEGORIES:Park Hall
ATTACH;FMTTYPE=image/jpeg:https://wythallcommunityclub.org.uk/wp-content/uploads/2024/04/iDance-Wythall.jpg
ORGANIZER;CN="iDance":MAILTO:info@i-dance.co.uk
END:VEVENT
BEGIN:VEVENT
DTSTART;TZID=Europe/London:20251206T190000
DTEND;TZID=Europe/London:20251206T233000
DTSTAMP:20260422T142643
CREATED:20240409T115632Z
LAST-MODIFIED:20251103T200516Z
UID:10003598-1765047600-1765063800@wythallcommunityclub.org.uk
SUMMARY:UB40/Reggae Tribute Night
DESCRIPTION:UB40 Tribute/Reggae Band\, Wythall Community Association\nJoin us for an electrifying night of reggae rhythms and infectious beats as we pay homage to the legendary UB40 with our UB40/Reggae Tribute Band! Get ready to groove the night away to the iconic sounds of one of Britain’s most beloved reggae bands\, brought to life by our talented tribute performers. \nBook Now!\nEvent Details:\nDate: Saturday 6 December 2025\nTime: Doors Open at 7:00 PM\nLocation: Wythall Community Association\, Park Hall\, Wythall Park\, 52 Silver St\, Wythall\, Birmingham B47 6LZ \n\nAbout the Event:\nPrepare to immerse yourself in the timeless melodies and infectious beats of UB40 as our exceptional UB40/Reggae Tribute band takes the stage. From “Red Red Wine” to “Can’t Help Falling in Love\,” experience the magic of UB40’s greatest hits performed live in an unforgettable atmosphere. \nTicket Information:\n\n\n\n\n\nGeneral Admission Tickets: £17.50\nFor ticket enquiries\, please contact 0121 270 5886 or email tickets@tributenightpromotions.co.uk\n\n\n\n\n\n\nImportant Notes:\n\n\n\n\n\nTickets are limited\, so book early to avoid disappointment.\n\n\n\n\n\nDon’t miss this chance to experience the magic of our UB40/Reggae Tribute live in concert! Get your tickets now and prepare for a night of unforgettable music and good vibes. We look forward to seeing you there! \nLocation\nWythall Community Association\, Park Hall\, Wythall Park\, 52 Silver St\, Wythall\, Birmingham B47 6LZ \nRoom: Park Hall \nEntertainment\nUB40/Reggae Tribute Night \nItinerary\n\n\n\n\n\n7:00 pm Doors Open for ticket holders\n7:00 pm Disco begins\n8:30 pm UB40/Reggae Tribute*\n9:15 pm Interval/ Disco*\n9:45 pm UB40/Reggae Tribute*\n11:00 pm Last orders at the bar\n11:30 pm Night ends\n\n\n\n\n\n*Please note: Performance timings are approximate. \nBook Now!
URL:https://wythallcommunityclub.org.uk/event/ub40-reggae-tribute-night/
LOCATION:Park Hall\, Wythall Community Association\, 52 Silver Street\, Birmingham\, West Midlands\, B47 6LZ\, United Kingdom
CATEGORIES:Park Hall,Tribute Act
ATTACH;FMTTYPE=image/jpeg:https://wythallcommunityclub.org.uk/wp-content/uploads/2024/04/UB40-Reggae-Tribute-Night-at-Wythall-Community-Club-Sat-6-December-2025-e1762200307695.jpg
ORGANIZER;CN="Tribute Night Promotions":MAILTO:tickets@tributenightpromotions.co.uk
END:VEVENT
BEGIN:VEVENT
DTSTART;TZID=Europe/London:20251208T193000
DTEND;TZID=Europe/London:20251208T230000
DTSTAMP:20260422T142643
CREATED:20240406T104107Z
LAST-MODIFIED:20250515T134102Z
UID:10003158-1765222200-1765234800@wythallcommunityclub.org.uk
SUMMARY:Salsa King
DESCRIPTION:It’s great fun\, nice and easy\, lots of laughter and make new friends in the Birmingham and Solihull areas. \n\n\n\n\n\n7:30pm Beginners Salsa – *MONTHLY COURSES AVAILABLE*\n8:30pm Improvers Salsa\n9:30pm – 11pm – Salsa Social with Salsa King DJ Lee\n\n\n\n\n\nFully Licensed Bar & large free Car Park. \nNo partner needed\, no dance experience necessary\, those with two left feet especially welcome! No booking required\, simply turn up & join in the fun. \nAdmission £10 (cash on door) covers BOTH classes. \nor Discounted Monthly Passes available upon request.
URL:https://wythallcommunityclub.org.uk/event/salsa-king/2025-12-08/
LOCATION:Park Hall\, Wythall Community Association\, 52 Silver Street\, Birmingham\, West Midlands\, B47 6LZ\, United Kingdom
CATEGORIES:Park Hall
ATTACH;FMTTYPE=image/jpeg:https://wythallcommunityclub.org.uk/wp-content/uploads/2024/04/Salsa-King.jpg
END:VEVENT
BEGIN:VEVENT
DTSTART;TZID=Europe/London:20251209T200000
DTEND;TZID=Europe/London:20251209T230000
DTSTAMP:20260422T142643
CREATED:20240406T104616Z
LAST-MODIFIED:20241208T123437Z
UID:10003419-1765310400-1765321200@wythallcommunityclub.org.uk
SUMMARY:iDance – Modern Jive\, Salsa\, Tango\, Ballroom
DESCRIPTION:Dance Classes Every Tuesday Evening \n\n\n\n\n\nTimes:\n\n7.45pm Doors open\n8pm – 8.25pm Beginner class\n8.30pm – 9pm Intermediate class\n9pm – 11pm Freestyle\n\n\nEntry\n\n£8 / £3 (if already attended an iDance class night this week)\nStudents £8\nNew members £5\n\n\nFreestyle Events click HERE\n\n\n\n\n\nWith iDance classes\, we start by teaching the fundamentals of dance providing you with the skills necessary to start your\ndance journey with moves taken from a variety of different styles such as Salsa\, Tango\, Ballroom\, modern Jive and many others.\nOur classes are varied and we provide tuition for a range of abilities from absolute beginner through to experienced competitor.
URL:https://wythallcommunityclub.org.uk/event/idance-modern-jive-salsa-tango-ballroom/2025-12-09/
LOCATION:Park Hall\, Wythall Community Association\, 52 Silver Street\, Birmingham\, West Midlands\, B47 6LZ\, United Kingdom
CATEGORIES:Park Hall
ATTACH;FMTTYPE=image/jpeg:https://wythallcommunityclub.org.uk/wp-content/uploads/2024/04/iDance-Wythall.jpg
ORGANIZER;CN="iDance":MAILTO:info@i-dance.co.uk
END:VEVENT
BEGIN:VEVENT
DTSTART;TZID=Europe/London:20251213T140000
DTEND;TZID=Europe/London:20251213T160000
DTSTAMP:20260422T142643
CREATED:20250925T124903Z
LAST-MODIFIED:20251201T090754Z
UID:10004765-1765634400-1765641600@wythallcommunityclub.org.uk
SUMMARY:Children's Christmas Party
DESCRIPTION:What better was to spend a Saturday afternoon? Running from 2 till 4\, a children’s party that takes you back to the days when they were messy\, a bit more messy and very loud! And you can just sit back and watch it all happen\, knowing the kids will be worn out and you wont have to clear up afterwards! \nAdults and Children £5 each. \nChildren's Christmas PartyPlease enable JavaScript in your browser to complete this form.Please enable JavaScript in your browser to complete this form.		\n			Children Adults Total\n			\n		\n		Adult's Name *FirstLastEmail *Additional Adults and Children's Names *Please advise the names of any additional adults.\nPlease also give us the First and Last Names with ages of the children.Number of Adults1234Number of Children *123456Total£0.00Children's Christmas Party Payment *Submit
URL:https://wythallcommunityclub.org.uk/event/childrens-christmas-party-4/
LOCATION:Park Hall\, Wythall Community Association\, 52 Silver Street\, Birmingham\, West Midlands\, B47 6LZ\, United Kingdom
CATEGORIES:Childrens Christmas Party,Park Hall
ATTACH;FMTTYPE=image/png:https://wythallcommunityclub.org.uk/wp-content/uploads/2025/09/Childrens-Christmas-Party-13-December-2025a.png
ORGANIZER;CN="Wythall Community Club":MAILTO:enquiries@wythallcommunityclub.org.uk
END:VEVENT
BEGIN:VEVENT
DTSTART;TZID=Europe/London:20251215T193000
DTEND;TZID=Europe/London:20251215T230000
DTSTAMP:20260422T142643
CREATED:20240406T104107Z
LAST-MODIFIED:20250515T134102Z
UID:10003159-1765827000-1765839600@wythallcommunityclub.org.uk
SUMMARY:Salsa King
DESCRIPTION:It’s great fun\, nice and easy\, lots of laughter and make new friends in the Birmingham and Solihull areas. \n\n\n\n\n\n7:30pm Beginners Salsa – *MONTHLY COURSES AVAILABLE*\n8:30pm Improvers Salsa\n9:30pm – 11pm – Salsa Social with Salsa King DJ Lee\n\n\n\n\n\nFully Licensed Bar & large free Car Park. \nNo partner needed\, no dance experience necessary\, those with two left feet especially welcome! No booking required\, simply turn up & join in the fun. \nAdmission £10 (cash on door) covers BOTH classes. \nor Discounted Monthly Passes available upon request.
URL:https://wythallcommunityclub.org.uk/event/salsa-king/2025-12-15/
LOCATION:Park Hall\, Wythall Community Association\, 52 Silver Street\, Birmingham\, West Midlands\, B47 6LZ\, United Kingdom
CATEGORIES:Park Hall
ATTACH;FMTTYPE=image/jpeg:https://wythallcommunityclub.org.uk/wp-content/uploads/2024/04/Salsa-King.jpg
END:VEVENT
BEGIN:VEVENT
DTSTART;TZID=Europe/London:20251216T200000
DTEND;TZID=Europe/London:20251216T230000
DTSTAMP:20260422T142643
CREATED:20240406T104616Z
LAST-MODIFIED:20241208T123437Z
UID:10003420-1765915200-1765926000@wythallcommunityclub.org.uk
SUMMARY:iDance – Modern Jive\, Salsa\, Tango\, Ballroom
DESCRIPTION:Dance Classes Every Tuesday Evening \n\n\n\n\n\nTimes:\n\n7.45pm Doors open\n8pm – 8.25pm Beginner class\n8.30pm – 9pm Intermediate class\n9pm – 11pm Freestyle\n\n\nEntry\n\n£8 / £3 (if already attended an iDance class night this week)\nStudents £8\nNew members £5\n\n\nFreestyle Events click HERE\n\n\n\n\n\nWith iDance classes\, we start by teaching the fundamentals of dance providing you with the skills necessary to start your\ndance journey with moves taken from a variety of different styles such as Salsa\, Tango\, Ballroom\, modern Jive and many others.\nOur classes are varied and we provide tuition for a range of abilities from absolute beginner through to experienced competitor.
URL:https://wythallcommunityclub.org.uk/event/idance-modern-jive-salsa-tango-ballroom/2025-12-16/
LOCATION:Park Hall\, Wythall Community Association\, 52 Silver Street\, Birmingham\, West Midlands\, B47 6LZ\, United Kingdom
CATEGORIES:Park Hall
ATTACH;FMTTYPE=image/jpeg:https://wythallcommunityclub.org.uk/wp-content/uploads/2024/04/iDance-Wythall.jpg
ORGANIZER;CN="iDance":MAILTO:info@i-dance.co.uk
END:VEVENT
BEGIN:VEVENT
DTSTART;TZID=Europe/London:20251222T193000
DTEND;TZID=Europe/London:20251222T230000
DTSTAMP:20260422T142643
CREATED:20240406T104107Z
LAST-MODIFIED:20250515T134102Z
UID:10003160-1766431800-1766444400@wythallcommunityclub.org.uk
SUMMARY:Salsa King
DESCRIPTION:It’s great fun\, nice and easy\, lots of laughter and make new friends in the Birmingham and Solihull areas. \n\n\n\n\n\n7:30pm Beginners Salsa – *MONTHLY COURSES AVAILABLE*\n8:30pm Improvers Salsa\n9:30pm – 11pm – Salsa Social with Salsa King DJ Lee\n\n\n\n\n\nFully Licensed Bar & large free Car Park. \nNo partner needed\, no dance experience necessary\, those with two left feet especially welcome! No booking required\, simply turn up & join in the fun. \nAdmission £10 (cash on door) covers BOTH classes. \nor Discounted Monthly Passes available upon request.
URL:https://wythallcommunityclub.org.uk/event/salsa-king/2025-12-22/
LOCATION:Park Hall\, Wythall Community Association\, 52 Silver Street\, Birmingham\, West Midlands\, B47 6LZ\, United Kingdom
CATEGORIES:Park Hall
ATTACH;FMTTYPE=image/jpeg:https://wythallcommunityclub.org.uk/wp-content/uploads/2024/04/Salsa-King.jpg
END:VEVENT
BEGIN:VEVENT
DTSTART;TZID=Europe/London:20251223T200000
DTEND;TZID=Europe/London:20251223T230000
DTSTAMP:20260422T142643
CREATED:20240406T104616Z
LAST-MODIFIED:20241208T123437Z
UID:10003421-1766520000-1766530800@wythallcommunityclub.org.uk
SUMMARY:iDance – Modern Jive\, Salsa\, Tango\, Ballroom
DESCRIPTION:Dance Classes Every Tuesday Evening \n\n\n\n\n\nTimes:\n\n7.45pm Doors open\n8pm – 8.25pm Beginner class\n8.30pm – 9pm Intermediate class\n9pm – 11pm Freestyle\n\n\nEntry\n\n£8 / £3 (if already attended an iDance class night this week)\nStudents £8\nNew members £5\n\n\nFreestyle Events click HERE\n\n\n\n\n\nWith iDance classes\, we start by teaching the fundamentals of dance providing you with the skills necessary to start your\ndance journey with moves taken from a variety of different styles such as Salsa\, Tango\, Ballroom\, modern Jive and many others.\nOur classes are varied and we provide tuition for a range of abilities from absolute beginner through to experienced competitor.
URL:https://wythallcommunityclub.org.uk/event/idance-modern-jive-salsa-tango-ballroom/2025-12-23/
LOCATION:Park Hall\, Wythall Community Association\, 52 Silver Street\, Birmingham\, West Midlands\, B47 6LZ\, United Kingdom
CATEGORIES:Park Hall
ATTACH;FMTTYPE=image/jpeg:https://wythallcommunityclub.org.uk/wp-content/uploads/2024/04/iDance-Wythall.jpg
ORGANIZER;CN="iDance":MAILTO:info@i-dance.co.uk
END:VEVENT
BEGIN:VEVENT
DTSTART;TZID=Europe/London:20251229T193000
DTEND;TZID=Europe/London:20251229T230000
DTSTAMP:20260422T142643
CREATED:20240406T104107Z
LAST-MODIFIED:20250515T134102Z
UID:10003161-1767036600-1767049200@wythallcommunityclub.org.uk
SUMMARY:Salsa King
DESCRIPTION:It’s great fun\, nice and easy\, lots of laughter and make new friends in the Birmingham and Solihull areas. \n\n\n\n\n\n7:30pm Beginners Salsa – *MONTHLY COURSES AVAILABLE*\n8:30pm Improvers Salsa\n9:30pm – 11pm – Salsa Social with Salsa King DJ Lee\n\n\n\n\n\nFully Licensed Bar & large free Car Park. \nNo partner needed\, no dance experience necessary\, those with two left feet especially welcome! No booking required\, simply turn up & join in the fun. \nAdmission £10 (cash on door) covers BOTH classes. \nor Discounted Monthly Passes available upon request.
URL:https://wythallcommunityclub.org.uk/event/salsa-king/2025-12-29/
LOCATION:Park Hall\, Wythall Community Association\, 52 Silver Street\, Birmingham\, West Midlands\, B47 6LZ\, United Kingdom
CATEGORIES:Park Hall
ATTACH;FMTTYPE=image/jpeg:https://wythallcommunityclub.org.uk/wp-content/uploads/2024/04/Salsa-King.jpg
END:VEVENT
BEGIN:VEVENT
DTSTART;TZID=Europe/London:20251230T200000
DTEND;TZID=Europe/London:20251230T230000
DTSTAMP:20260422T142643
CREATED:20240406T104616Z
LAST-MODIFIED:20241208T123437Z
UID:10003422-1767124800-1767135600@wythallcommunityclub.org.uk
SUMMARY:iDance – Modern Jive\, Salsa\, Tango\, Ballroom
DESCRIPTION:Dance Classes Every Tuesday Evening \n\n\n\n\n\nTimes:\n\n7.45pm Doors open\n8pm – 8.25pm Beginner class\n8.30pm – 9pm Intermediate class\n9pm – 11pm Freestyle\n\n\nEntry\n\n£8 / £3 (if already attended an iDance class night this week)\nStudents £8\nNew members £5\n\n\nFreestyle Events click HERE\n\n\n\n\n\nWith iDance classes\, we start by teaching the fundamentals of dance providing you with the skills necessary to start your\ndance journey with moves taken from a variety of different styles such as Salsa\, Tango\, Ballroom\, modern Jive and many others.\nOur classes are varied and we provide tuition for a range of abilities from absolute beginner through to experienced competitor.
URL:https://wythallcommunityclub.org.uk/event/idance-modern-jive-salsa-tango-ballroom/2025-12-30/
LOCATION:Park Hall\, Wythall Community Association\, 52 Silver Street\, Birmingham\, West Midlands\, B47 6LZ\, United Kingdom
CATEGORIES:Park Hall
ATTACH;FMTTYPE=image/jpeg:https://wythallcommunityclub.org.uk/wp-content/uploads/2024/04/iDance-Wythall.jpg
ORGANIZER;CN="iDance":MAILTO:info@i-dance.co.uk
END:VEVENT
END:VCALENDAR