BEGIN:VCALENDAR
VERSION:2.0
PRODID:-//Wythall Community Club - ECPv6.15.20//NONSGML v1.0//EN
CALSCALE:GREGORIAN
METHOD:PUBLISH
X-WR-CALNAME:Wythall Community Club
X-ORIGINAL-URL:https://wythallcommunityclub.org.uk
X-WR-CALDESC:Events for Wythall Community Club
REFRESH-INTERVAL;VALUE=DURATION:PT1H
X-Robots-Tag:noindex
X-PUBLISHED-TTL:PT1H
BEGIN:VTIMEZONE
TZID:Europe/London
BEGIN:DAYLIGHT
TZOFFSETFROM:+0000
TZOFFSETTO:+0100
TZNAME:BST
DTSTART:20240331T010000
END:DAYLIGHT
BEGIN:STANDARD
TZOFFSETFROM:+0100
TZOFFSETTO:+0000
TZNAME:GMT
DTSTART:20241027T010000
END:STANDARD
BEGIN:DAYLIGHT
TZOFFSETFROM:+0000
TZOFFSETTO:+0100
TZNAME:BST
DTSTART:20250330T010000
END:DAYLIGHT
BEGIN:STANDARD
TZOFFSETFROM:+0100
TZOFFSETTO:+0000
TZNAME:GMT
DTSTART:20251026T010000
END:STANDARD
BEGIN:DAYLIGHT
TZOFFSETFROM:+0000
TZOFFSETTO:+0100
TZNAME:BST
DTSTART:20260329T010000
END:DAYLIGHT
BEGIN:STANDARD
TZOFFSETFROM:+0100
TZOFFSETTO:+0000
TZNAME:GMT
DTSTART:20261025T010000
END:STANDARD
END:VTIMEZONE
BEGIN:VEVENT
DTSTART;TZID=Europe/London:20250628T180000
DTEND;TZID=Europe/London:20250628T203000
DTSTAMP:20260423T200525
CREATED:20250531T132107Z
LAST-MODIFIED:20250609T154924Z
UID:10004742-1751133600-1751142600@wythallcommunityclub.org.uk
SUMMARY:Bingo Night
DESCRIPTION:GAMES – FUN – CASH PRIZES \nPop in for a game of Bingo from 6pm. \nNo admission fee. \nOpen to members and non-members. Non-members please see the organiser on arrival to be signed in. \nTickets available on the night.
URL:https://wythallcommunityclub.org.uk/event/bingo-night-10/
LOCATION:Lounge Bar\, Wythall House\, Silver St\, Wythall\, Birmingham\, West Midlands\, B47 6LZ
CATEGORIES:Bingo Night,Lounge
ATTACH;FMTTYPE=image/jpeg:https://wythallcommunityclub.org.uk/wp-content/uploads/2025/05/Bingo-Night-A4-28-June-2025.jpg
ORGANIZER;CN="Helen Cleaver":MAILTO:quiz@wythallcommunityclub.org.uk
END:VEVENT
END:VCALENDAR