BEGIN:VCALENDAR
VERSION:2.0
PRODID:-//Wythall Community Club - ECPv6.15.20//NONSGML v1.0//EN
CALSCALE:GREGORIAN
METHOD:PUBLISH
X-WR-CALNAME:Wythall Community Club
X-ORIGINAL-URL:https://wythallcommunityclub.org.uk
X-WR-CALDESC:Events for Wythall Community Club
REFRESH-INTERVAL;VALUE=DURATION:PT1H
X-Robots-Tag:noindex
X-PUBLISHED-TTL:PT1H
BEGIN:VTIMEZONE
TZID:Europe/London
BEGIN:DAYLIGHT
TZOFFSETFROM:+0000
TZOFFSETTO:+0100
TZNAME:BST
DTSTART:20240331T010000
END:DAYLIGHT
BEGIN:STANDARD
TZOFFSETFROM:+0100
TZOFFSETTO:+0000
TZNAME:GMT
DTSTART:20241027T010000
END:STANDARD
BEGIN:DAYLIGHT
TZOFFSETFROM:+0000
TZOFFSETTO:+0100
TZNAME:BST
DTSTART:20250330T010000
END:DAYLIGHT
BEGIN:STANDARD
TZOFFSETFROM:+0100
TZOFFSETTO:+0000
TZNAME:GMT
DTSTART:20251026T010000
END:STANDARD
BEGIN:DAYLIGHT
TZOFFSETFROM:+0000
TZOFFSETTO:+0100
TZNAME:BST
DTSTART:20260329T010000
END:DAYLIGHT
BEGIN:STANDARD
TZOFFSETFROM:+0100
TZOFFSETTO:+0000
TZNAME:GMT
DTSTART:20261025T010000
END:STANDARD
END:VTIMEZONE
BEGIN:VEVENT
DTSTART;TZID=Europe/London:20250607T120000
DTEND;TZID=Europe/London:20250607T170000
DTSTAMP:20260423T195912
CREATED:20250522T110717Z
LAST-MODIFIED:20250522T113030Z
UID:10004671-1749297600-1749315600@wythallcommunityclub.org.uk
SUMMARY:Summer Craft Fair 2025
DESCRIPTION:For the third year\, Wythall & Hollywood Country Market are hosting a Summer Craft Fair in and around Park Hall. \nThere will be a cornucopia of high quality\, hand-made craft goods\, both from Country Market members and from the wider craft community. \nRefreshments will be available\, alongside home-baked food items for a special treat. \nPark Hall is right alongside the kids playground\, so they will enjoy themselves too. \nEntrance is free. \nFor more information email: whcountrymarket@gmail.com
URL:https://wythallcommunityclub.org.uk/event/summer-craft-fair-2025/
LOCATION:Park Hall\, Wythall Community Association\, 52 Silver Street\, Birmingham\, West Midlands\, B47 6LZ\, United Kingdom
CATEGORIES:Park Hall
ATTACH;FMTTYPE=image/jpeg:https://wythallcommunityclub.org.uk/wp-content/uploads/2025/05/Summer-Craft-Fair-7-June-2025-Wythall-Park.jpg
ORGANIZER;CN="Wythall and Hollywood Country Market":MAILTO:whcountrymarket@gmail.com
END:VEVENT
END:VCALENDAR